BEGIN:VCALENDAR
VERSION:2.0
PRODID:-//Semaine de l&#039;immigration francophone - ECPv6.6.4.2//NONSGML v1.0//EN
CALSCALE:GREGORIAN
METHOD:PUBLISH
X-WR-CALNAME:Semaine de l&#039;immigration francophone
X-ORIGINAL-URL:http://semaine.immigrationfrancophone.ca
X-WR-CALDESC:Events for Semaine de l&#039;immigration francophone
REFRESH-INTERVAL;VALUE=DURATION:PT1H
X-Robots-Tag:noindex
X-PUBLISHED-TTL:PT1H
BEGIN:VTIMEZONE
TZID:America/Toronto
BEGIN:DAYLIGHT
TZOFFSETFROM:-0500
TZOFFSETTO:-0400
TZNAME:EDT
DTSTART:20240310T070000
END:DAYLIGHT
BEGIN:STANDARD
TZOFFSETFROM:-0400
TZOFFSETTO:-0500
TZNAME:EST
DTSTART:20241103T060000
END:STANDARD
BEGIN:DAYLIGHT
TZOFFSETFROM:-0500
TZOFFSETTO:-0400
TZNAME:EDT
DTSTART:20250309T070000
END:DAYLIGHT
BEGIN:STANDARD
TZOFFSETFROM:-0400
TZOFFSETTO:-0500
TZNAME:EST
DTSTART:20251102T060000
END:STANDARD
TZID:America/Vancouver
BEGIN:DAYLIGHT
TZOFFSETFROM:-0800
TZOFFSETTO:-0700
TZNAME:PDT
DTSTART:20250309T100000
END:DAYLIGHT
BEGIN:STANDARD
TZOFFSETFROM:-0700
TZOFFSETTO:-0800
TZNAME:PST
DTSTART:20251102T090000
END:STANDARD
END:VTIMEZONE
BEGIN:VEVENT
DTSTART;TZID=America/Toronto:20241027T080000
DTEND;TZID=America/Toronto:20251231T170000
DTSTAMP:20260425T095132
CREATED:20241018T192457Z
LAST-MODIFIED:20241029T233718Z
UID:2980-1730016000-1767200400@semaine.immigrationfrancophone.ca
SUMMARY:NIAGARA: LES SERVICES FRANCOPHONES VIENNENT À VOUS!
DESCRIPTION:TOURNÉE RÉGIONALE DES SERVICES FRANCOPHONES DANS LA RÉGION DE NIAGARA\n\nDans la région de Niagara\, les services francophones sont présents depuis bien longtemps! Cette année\, les organismes membres du Comité local en Immigration Francophone de la région de Niagara ont décidé d’innover en allant à la rencontre des personnes immigrantes francophones dans leur lieux de vie et de fréquentation. Le CLIF de Niagara vient à vous\, c’est le   début d’une tournée régionale des services francophones au coeur de la vie des francophones! Surveillez le calendrier de la tournée!
URL:http://semaine.immigrationfrancophone.ca/evenement/les-services-francophones-viennent-a-vous_tournee-regionale-des-services-francophones-dans-la-region-de-niagara/
LOCATION:Ontario
ATTACH;FMTTYPE=image/png:http://semaine.immigrationfrancophone.ca/wp-content/uploads/sites/2/2024/10/SNIF-2024-CLIF-Niagara-detail-FR.png
ORGANIZER;CN="Comit%C3%A9 Local en Immigraation Francophone de Niagara_R%C3%A9seau en Immigration Francophone du Centre Sud Ouest de l'Ontario":MAILTO:mikhaela.sullivan@cschn.ca
END:VEVENT
BEGIN:VEVENT
DTSTART;TZID=America/Vancouver:20251022T080000
DTEND;TZID=America/Vancouver:20251022T170000
DTSTAMP:20260425T095132
CREATED:20251022T215117Z
LAST-MODIFIED:20251022T215218Z
UID:3651-1761120000-1761152400@semaine.immigrationfrancophone.ca
SUMMARY:Session d’information : Découvrez le programme éducatif HIPPY-SMART en français
DESCRIPTION:Apprenez-en plus sur le nouveau programme de Réseau-Femmes : un soutien éducatif en français pour les enfants de 18 mois à 5 ans\nVous êtes une maman francophone installée dans le Grand Vancouver et Lower Mainland ? Vous souhaitez soutenir le développement de votre enfant et faciliter son intégration dans le système scolaire canadien ? Le nouveau programme HIPPY-SMART\, offert gratuitement en français par Réseau-Femmes\, est conçu pour vous !\n\n 	Début : rentrée 2025\n 	Inscription gratuite\n\nParticipez à notre session d’informations\, animée par Naouar Belhou\, chargée de projet HIPPY-SMART\n\n 	Lundi 3 novembre 2025\n 	18h00-18h45\n 	En ligne (Zoom)\n 	Inscription ici
URL:http://semaine.immigrationfrancophone.ca/evenement/session-dinformation-decouvrez-le-programme-educatif-hippy-smart-en-francais/
LOCATION:En ligne sur Zoom
ATTACH;FMTTYPE=image/png:http://semaine.immigrationfrancophone.ca/wp-content/uploads/sites/2/2025/10/Session-3-novembre-768x768-1.png
END:VEVENT
END:VCALENDAR