BEGIN:VCALENDAR
VERSION:2.0
PRODID:-//Semaine de l&#039;immigration francophone - ECPv6.6.4.2//NONSGML v1.0//EN
CALSCALE:GREGORIAN
METHOD:PUBLISH
X-WR-CALNAME:Semaine de l&#039;immigration francophone
X-ORIGINAL-URL:https://semaine.immigrationfrancophone.ca
X-WR-CALDESC:Events for Semaine de l&#039;immigration francophone
REFRESH-INTERVAL;VALUE=DURATION:PT1H
X-Robots-Tag:noindex
X-PUBLISHED-TTL:PT1H
BEGIN:VTIMEZONE
TZID:America/Toronto
BEGIN:DAYLIGHT
TZOFFSETFROM:-0500
TZOFFSETTO:-0400
TZNAME:EDT
DTSTART:20230312T070000
END:DAYLIGHT
BEGIN:STANDARD
TZOFFSETFROM:-0400
TZOFFSETTO:-0500
TZNAME:EST
DTSTART:20231105T060000
END:STANDARD
END:VTIMEZONE
BEGIN:VEVENT
DTSTART;TZID=America/Toronto:20231016T080000
DTEND;TZID=America/Toronto:20231111T170000
DTSTAMP:20260421T130919
CREATED:20231016T202019Z
LAST-MODIFIED:20231101T214443Z
UID:1771-1697443200-1699722000@semaine.immigrationfrancophone.ca
SUMMARY:Sondage pour les familles nouvellement arrivées en Alberta
DESCRIPTION:𝐀𝐢𝐝𝐞𝐳-𝐧𝐨𝐮𝐬 𝐚̀ 𝐚𝐦𝐞́𝐥𝐢𝐨𝐫𝐞𝐫 𝐥’𝐚𝐜𝐜𝐮𝐞𝐢𝐥 𝐝𝐞𝐬 𝐧𝐨𝐮𝐯𝐞𝐥𝐥𝐞𝐬 𝐟𝐚𝐦𝐢𝐥𝐥𝐞𝐬 𝐝𝐚𝐧𝐬 𝐥𝐞𝐬 𝐞́𝐜𝐨𝐥𝐞𝐬 𝐟𝐫𝐚𝐧𝐜𝐨𝐩𝐡𝐨𝐧𝐞𝐬 𝐝𝐞 𝐥’𝐀𝐥𝐛𝐞𝐫𝐭𝐚\nLa Fédération des parents francophones de l’Alberta FPFA invite les familles nouvellement arrivées en Alberta à répondre à un sondage.\nL’objectif est de mieux cerner vos besoins en matière d’accueil et d’intégration dans le milieu scolaire de vos enfants afin d’améliorer les services proposés.\n\nEnsemble\, nous pouvons faire la différence et construire un avenir plus inclusif pour toutes les familles francophones en Alberta. Partagez ce post pour que personne ne passe à côté de cette opportunité de contribuer à notre communauté !\n\nLien du sondage
URL:https://semaine.immigrationfrancophone.ca/evenement/sondage-pour-les-familles-nouvellement-arrivees-en-alberta/
LOCATION:alberta\, Alberta\, Canada
ATTACH;FMTTYPE=image/png:https://semaine.immigrationfrancophone.ca/wp-content/uploads/sites/2/2023/10/Terre-Accueillante-10.png
END:VEVENT
BEGIN:VEVENT
DTSTART;TZID=America/Toronto:20231031T080000
DTEND;TZID=America/Toronto:20231031T170000
DTSTAMP:20260421T130919
CREATED:20231031T161320Z
LAST-MODIFIED:20231031T161557Z
UID:2136-1698739200-1698771600@semaine.immigrationfrancophone.ca
SUMMARY:L'Alliance Jeunesse-Famille de l'Alberta Society-AJFAS a le plaisir de vous annoncer ses prochains événements. Ne manquez pas !
DESCRIPTION:
URL:https://semaine.immigrationfrancophone.ca/evenement/2136/
LOCATION:Ontario
END:VEVENT
BEGIN:VEVENT
DTSTART;TZID=America/Toronto:20231031T080000
DTEND;TZID=America/Toronto:20231031T170000
DTSTAMP:20260421T130919
CREATED:20231101T000256Z
LAST-MODIFIED:20231101T000256Z
UID:2145-1698739200-1698771600@semaine.immigrationfrancophone.ca
SUMMARY:Présentation des résultats d'une étude sur "Les dynamiques de la cohésion communautaire dans le Grand Vancouver"
DESCRIPTION:Nous présenterons les résultats préliminaires d’une étude au sujet de la cohésion sociale au sein des communautés francophones en situation minoritaire. Bien que cette étude ait été menée dans quatre provinces\, notre atelier se concentrera sur les données recueillies dans la région du Grand Vancouver. Nous commencerons avec les résultats d’une étude de discours critique comportant 86 documents publiés par cinq parties prenantes nationales. Par la suite\, nous résumerons quelques thèmes clés soulignés lors des entrevues avec treize informateurs clés\, ainsi que des entrevues et cartographies complétées avec 24 francophones nés au Canada et issus de l’immigration\, qui permettront d’identifier les facteurs qui façonnent les dynamiques communautaires. Nous terminerons avec quelques questions réflexives pour avancer une discussion au sujet de la cohésion communautaire comme un projet de société.\n\nS’inscrire ici!
URL:https://semaine.immigrationfrancophone.ca/evenement/presentation-des-resultats-dune-etude-sur-les-dynamiques-de-la-cohesion-communautaire-dans-le-grand-vancouver/
LOCATION:Ontario
ATTACH;FMTTYPE=image/jpeg:https://semaine.immigrationfrancophone.ca/wp-content/uploads/sites/2/2023/10/SNIF-Huot-et-Delaisse-affiche-1_page-0001.jpg
END:VEVENT
END:VCALENDAR