BEGIN:VCALENDAR
VERSION:2.0
PRODID:-//Semaine de l&#039;immigration francophone - ECPv6.6.4.2//NONSGML v1.0//EN
CALSCALE:GREGORIAN
METHOD:PUBLISH
X-ORIGINAL-URL:https://semaine.immigrationfrancophone.ca
X-WR-CALDESC:Events for Semaine de l&#039;immigration francophone
REFRESH-INTERVAL;VALUE=DURATION:PT1H
X-Robots-Tag:noindex
X-PUBLISHED-TTL:PT1H
BEGIN:VTIMEZONE
TZID:America/Winnipeg
BEGIN:DAYLIGHT
TZOFFSETFROM:-0600
TZOFFSETTO:-0500
TZNAME:CDT
DTSTART:20230312T080000
END:DAYLIGHT
BEGIN:STANDARD
TZOFFSETFROM:-0500
TZOFFSETTO:-0600
TZNAME:CST
DTSTART:20231105T070000
END:STANDARD
BEGIN:DAYLIGHT
TZOFFSETFROM:-0600
TZOFFSETTO:-0500
TZNAME:CDT
DTSTART:20240310T080000
END:DAYLIGHT
BEGIN:STANDARD
TZOFFSETFROM:-0500
TZOFFSETTO:-0600
TZNAME:CST
DTSTART:20241103T070000
END:STANDARD
TZID:America/Toronto
BEGIN:DAYLIGHT
TZOFFSETFROM:-0500
TZOFFSETTO:-0400
TZNAME:EDT
DTSTART:20230312T070000
END:DAYLIGHT
BEGIN:STANDARD
TZOFFSETFROM:-0400
TZOFFSETTO:-0500
TZNAME:EST
DTSTART:20231105T060000
END:STANDARD
END:VTIMEZONE
BEGIN:VEVENT
DTSTART;TZID=America/Winnipeg:20231109T083000
DTEND;TZID=America/Winnipeg:20240531T163000
DTSTAMP:20260423T065912
CREATED:20231110T015049Z
LAST-MODIFIED:20231110T015049Z
UID:2664-1699518600-1717173000@semaine.immigrationfrancophone.ca
SUMMARY:Bricolages de cartes de bienvenue
DESCRIPTION:On invite des groupes d’élèves dans les écoles de la DSFM et d’employés dans les centres de services bilingues à créer des cartes de bienvenues. Ces cartes seront ajoutées aux trousses de bienvenue qui seront distribuées aux familles qui reçoivent une visite guidée des Centres de services bilingues lors de la semaine nationale de l’immigration francophone\, et tout au long de l’année.\n\nPartenaires : Accès Saint-Boniface\, École Régionale Notre-Dame\, École communautaire Aurèle-Lemoine\, le RIF Manitoba (CFA)\, Southern Health-Santé Sud
URL:https://semaine.immigrationfrancophone.ca/evenement/bricolages-de-cartes-de-bienvenue/
LOCATION:Ontario
END:VEVENT
BEGIN:VEVENT
DTSTART;TZID=America/Winnipeg:20231110T083000
DTEND;TZID=America/Winnipeg:20231114T163000
DTSTAMP:20260423T065912
CREATED:20231109T201041Z
LAST-MODIFIED:20231109T201041Z
UID:2641-1699605000-1699979400@semaine.immigrationfrancophone.ca
SUMMARY:Visites guidées dans les centres de services bilingues
DESCRIPTION:Pendant la semaine nationale de l’immigration francophone\, nous invitons les nouveaux arrivants à venir découvrir les services qui leur sont offerts en français dans les Centres de services bilingues du Gouvernement du Manitoba. Les participants recevront une trousse de bienvenue remplie de ressources et une carte de bienvenue fabriquée par un membre de la communauté.
URL:https://semaine.immigrationfrancophone.ca/evenement/visites-guidees-dans-les-centres-de-services-bilingues-2023-11-10/
LOCATION:Ontario
END:VEVENT
BEGIN:VEVENT
DTSTART;TZID=America/Toronto:20231114T170000
DTEND;TZID=America/Toronto:20231114T210000
DTSTAMP:20260423T065912
CREATED:20231107T001713Z
LAST-MODIFIED:20231107T002121Z
UID:2552-1699981200-1699995600@semaine.immigrationfrancophone.ca
SUMMARY:Au bistro des découvertes ! Cécile Doo-Kingué présente Nadine Altounji
DESCRIPTION:C’est dans cet esprit que La Slague vous invite « Au bistro des découvertes ». Cette belle série de concerts intimes est soigneusement composée\, car ses talents nouveaux sont personnellement recommandés par des artistes chevronnés de l’Ontario français. Nos vieux routiers de la scène musicale sont bien placés pour faire de bonnes connaissances musicales et comme nous\, les stars aiment partager leurs trouvailles avec leurs amis. Alors\, soyez parmi leurs amis!\n\n\n\n\n\n\n\n\n\nAu bistro des découvertes\, vous y viendrez pour la bonne ambiance\, les bonnes bouchées\, la bonne musique\, la bonne compagnie\, le tout bien guidé par l’artiste parrain ou marraine de la soirée\, afin de composer une belle soirée d’intimité et de convivialité avec leurs protégés.\n\nUne initiative de La Slague\, sous la direction artistique de Dan Bédard.\n\n**Un mardi par mois de septembre à décembre.**\n\nLe 14 novembre – Cécile Doo-Kingué présente…\n\nNew-Yorkaise de naissance\, camerounaise d’origine\, elle est citoyenne du monde\, dont notre coin du monde. En plus de sa voix suave et pleine de vécu\, elle fait chanter sa guitare d’une manière bien à elle. Sa griffe unique marie le blues\, le soul\, la chanson et les rythmes africains. Forte et sincère\, elle propose avec ses paroles\, sa guitare et sa voix des moments d’intimité ensorcelants.\n\nNadine Altounji\n\nNadine Altounji est une auteure-compositrice-interprète et multi-instrumentiste (piano\, guitare\, oud) montréalaise dont les racines musicales sont profondément ancrées dans le sol fertile syrien de ses parents. Son premier EP solo I Still (2016)\, incorpore le folk et la pop à la musique moyen-orientale\, et son album The Stories that Tie Us to Trees combine les traditions musicales moyennes orientales et sud-américaines. Elle collabore avec Wayne Tennant et Imani Gospel Singers\, et a une trentaine de concerts à son actif partout dans le monde dont au Festival afropolitain nomade au Cameroun\, à Pop Montréal et au festival MUZ.\n\n\n\n\n 
URL:https://semaine.immigrationfrancophone.ca/evenement/2552/
LOCATION:Place des arts – bistro
ATTACH;FMTTYPE=image/jpeg:https://semaine.immigrationfrancophone.ca/wp-content/uploads/sites/2/2023/11/FB_IMG_1698865694766.jpg
END:VEVENT
END:VCALENDAR